Package: MEB Version: 1.25.0 Command: rm -rf MEB.buildbin-libdir && mkdir MEB.buildbin-libdir && /Users/biocbuild/BBS/utils/build-universal.sh MEB_1.25.0.tar.gz /Library/Frameworks/R.framework/Resources/bin/R MEB.buildbin-libdir StartedAt: 2025-11-16 23:40:34 -0500 (Sun, 16 Nov 2025) EndedAt: 2025-11-16 23:40:48 -0500 (Sun, 16 Nov 2025) EllapsedTime: 14.4 seconds RetCode: 0 Status: OK PackageFile: MEB_1.25.0.tgz PackageFileSize: 1.445 MiB