Package: MEAT Version: 1.23.0 Command: /Library/Frameworks/R.framework/Resources/bin/R CMD INSTALL MEAT StartedAt: 2025-11-14 15:32:44 -0500 (Fri, 14 Nov 2025) EndedAt: 2025-11-14 15:33:02 -0500 (Fri, 14 Nov 2025) EllapsedTime: 17.5 seconds RetCode: 0 Status: OK