Package: MEAT Version: 1.23.0 Command: /Library/Frameworks/R.framework/Resources/bin/R CMD build --keep-empty-dirs --no-resave-data MEAT StartedAt: 2025-11-14 16:52:00 -0500 (Fri, 14 Nov 2025) EndedAt: 2025-11-14 16:52:35 -0500 (Fri, 14 Nov 2025) EllapsedTime: 35.4 seconds RetCode: 0 Status: OK PackageFile: MEAT_1.23.0.tar.gz PackageFileSize: 4.974 MiB