Package: MEAT Version: 1.23.0 Command: rm -rf MEAT.buildbin-libdir && mkdir MEAT.buildbin-libdir && /Users/biocbuild/BBS/utils/build-universal.sh MEAT_1.23.0.tar.gz /Library/Frameworks/R.framework/Resources/bin/R MEAT.buildbin-libdir StartedAt: 2025-11-16 23:40:33 -0500 (Sun, 16 Nov 2025) EndedAt: 2025-11-16 23:41:00 -0500 (Sun, 16 Nov 2025) EllapsedTime: 26.8 seconds RetCode: 0 Status: OK PackageFile: MEAT_1.23.0.tgz PackageFileSize: 5.608 MiB