Package: MEAL Version: 1.41.0 Command: /Library/Frameworks/R.framework/Resources/bin/R CMD INSTALL MEAL StartedAt: 2025-11-14 15:34:18 -0500 (Fri, 14 Nov 2025) EndedAt: 2025-11-14 15:34:33 -0500 (Fri, 14 Nov 2025) EllapsedTime: 14.6 seconds RetCode: 0 Status: OK