Package: MEAL Version: 1.41.0 Command: /Library/Frameworks/R.framework/Resources/bin/R CMD build --keep-empty-dirs --no-resave-data MEAL StartedAt: 2025-11-14 16:51:56 -0500 (Fri, 14 Nov 2025) EndedAt: 2025-11-14 16:54:46 -0500 (Fri, 14 Nov 2025) EllapsedTime: 170.0 seconds RetCode: 0 Status: OK PackageFile: MEAL_1.41.0.tar.gz PackageFileSize: 2.104 MiB