Package: MEAL Version: 1.41.0 Command: rm -rf MEAL.buildbin-libdir && mkdir MEAL.buildbin-libdir && /Users/biocbuild/BBS/utils/build-universal.sh MEAL_1.41.0.tar.gz /Library/Frameworks/R.framework/Resources/bin/R MEAL.buildbin-libdir StartedAt: 2025-11-14 23:39:20 -0500 (Fri, 14 Nov 2025) EndedAt: 2025-11-14 23:39:43 -0500 (Fri, 14 Nov 2025) EllapsedTime: 23.5 seconds RetCode: 0 Status: OK PackageFile: MEAL_1.41.0.tgz PackageFileSize: 2.179 MiB