Package: MBQN Version: 2.23.0 Command: /Library/Frameworks/R.framework/Resources/bin/R CMD INSTALL MBQN StartedAt: 2025-11-14 15:14:12 -0500 (Fri, 14 Nov 2025) EndedAt: 2025-11-14 15:14:14 -0500 (Fri, 14 Nov 2025) EllapsedTime: 2.0 seconds RetCode: 0 Status: OK