Package: MBQN Version: 2.23.0 Command: /Library/Frameworks/R.framework/Resources/bin/R CMD build --keep-empty-dirs --no-resave-data MBQN StartedAt: 2025-11-14 16:51:32 -0500 (Fri, 14 Nov 2025) EndedAt: 2025-11-14 16:51:37 -0500 (Fri, 14 Nov 2025) EllapsedTime: 4.0 seconds RetCode: 0 Status: OK PackageFile: MBQN_2.23.0.tar.gz PackageFileSize: 220.8 KiB