Package: MBECS Version: 1.15.0 Command: /home/biocbuild/bbs-3.23-bioc/R/bin/R CMD INSTALL MBECS StartedAt: 2025-11-14 15:29:22 -0500 (Fri, 14 Nov 2025) EndedAt: 2025-11-14 15:29:43 -0500 (Fri, 14 Nov 2025) EllapsedTime: 21.3 seconds RetCode: 0 Status: OK