Package: MBECS Version: 1.15.0 Command: /home/biocbuild/bbs-3.23-bioc/R/bin/R CMD build --keep-empty-dirs --no-resave-data MBECS StartedAt: 2025-11-14 18:27:54 -0500 (Fri, 14 Nov 2025) EndedAt: 2025-11-14 18:29:03 -0500 (Fri, 14 Nov 2025) EllapsedTime: 69.1 seconds RetCode: 0 Status: OK PackageFile: MBECS_1.15.0.tar.gz PackageFileSize: 1.647 MiB