Package: MBECS Version: 1.15.0 Command: /Library/Frameworks/R.framework/Resources/bin/R CMD INSTALL MBECS StartedAt: 2025-11-13 15:09:35 -0500 (Thu, 13 Nov 2025) EndedAt: 2025-11-13 15:09:44 -0500 (Thu, 13 Nov 2025) EllapsedTime: 8.4 seconds RetCode: 0 Status: OK