Package: MBECS Version: 1.15.0 Command: /Library/Frameworks/R.framework/Resources/bin/R CMD build --keep-empty-dirs --no-resave-data MBECS StartedAt: 2025-11-13 16:54:28 -0500 (Thu, 13 Nov 2025) EndedAt: 2025-11-13 16:54:55 -0500 (Thu, 13 Nov 2025) EllapsedTime: 26.3 seconds RetCode: 0 Status: OK PackageFile: MBECS_1.15.0.tar.gz PackageFileSize: 1.727 MiB