Package: MBECS Version: 1.15.0 Command: rm -rf MBECS.buildbin-libdir && mkdir MBECS.buildbin-libdir && /Users/biocbuild/BBS/utils/build-universal.sh MBECS_1.15.0.tar.gz /Library/Frameworks/R.framework/Resources/bin/R MBECS.buildbin-libdir StartedAt: 2025-11-13 23:44:01 -0500 (Thu, 13 Nov 2025) EndedAt: 2025-11-13 23:44:12 -0500 (Thu, 13 Nov 2025) EllapsedTime: 11.2 seconds RetCode: 0 Status: OK PackageFile: MBECS_1.15.0.tgz PackageFileSize: 809.8 KiB