Package: MBECS Version: 1.15.0 Maintainer: Michael Olbrich MaintainerEmail: M.Olbrich at protonmail.com git_url: https://git.bioconductor.org/packages/MBECS git_branch: devel git_last_commit: 796859e git_last_commit_date: 2025-10-29 11:15:19 -0500 (Wed, 29 Oct 2025)