Package: MBCB Version: 1.65.0 Command: /home/biocbuild/bbs-3.23-bioc/R/bin/R CMD INSTALL MBCB StartedAt: 2025-11-14 15:12:30 -0500 (Fri, 14 Nov 2025) EndedAt: 2025-11-14 15:12:34 -0500 (Fri, 14 Nov 2025) EllapsedTime: 4.1 seconds RetCode: 0 Status: OK