Package: MBCB Version: 1.65.0 Command: /Library/Frameworks/R.framework/Resources/bin/R CMD build --keep-empty-dirs --no-resave-data MBCB StartedAt: 2025-11-13 16:54:24 -0500 (Thu, 13 Nov 2025) EndedAt: 2025-11-13 16:54:29 -0500 (Thu, 13 Nov 2025) EllapsedTime: 5.1 seconds RetCode: 0 Status: OK PackageFile: MBCB_1.65.0.tar.gz PackageFileSize: 409.6 KiB