Package: MBCB Version: 1.65.0 Command: rm -rf MBCB.buildbin-libdir && mkdir MBCB.buildbin-libdir && /Users/biocbuild/BBS/utils/build-universal.sh MBCB_1.65.0.tar.gz /Library/Frameworks/R.framework/Resources/bin/R MBCB.buildbin-libdir StartedAt: 2025-11-13 23:44:01 -0500 (Thu, 13 Nov 2025) EndedAt: 2025-11-13 23:44:06 -0500 (Thu, 13 Nov 2025) EllapsedTime: 5.1 seconds RetCode: 0 Status: OK PackageFile: MBCB_1.65.0.tgz PackageFileSize: 472 KiB