Package: MBCB Version: 1.65.0 Maintainer: Bo Yao MaintainerEmail: Bo.Yao at UTSouthwestern.edu git_url: https://git.bioconductor.org/packages/MBCB git_branch: devel git_last_commit: 4aa3893 git_last_commit_date: 2025-10-29 10:05:23 -0500 (Wed, 29 Oct 2025)