Package: MBAmethyl Version: 1.45.0 Command: /home/biocbuild/bbs-3.23-bioc/R/bin/R CMD INSTALL MBAmethyl StartedAt: 2025-11-23 15:03:00 -0500 (Sun, 23 Nov 2025) EndedAt: 2025-11-23 15:03:08 -0500 (Sun, 23 Nov 2025) EllapsedTime: 7.3 seconds RetCode: 0 Status: OK