Package: MBAmethyl Version: 1.45.0 Command: /Library/Frameworks/R.framework/Resources/bin/R CMD build --keep-empty-dirs --no-resave-data MBAmethyl StartedAt: 2025-11-14 16:51:00 -0500 (Fri, 14 Nov 2025) EndedAt: 2025-11-14 16:51:05 -0500 (Fri, 14 Nov 2025) EllapsedTime: 5.1 seconds RetCode: 0 Status: OK PackageFile: MBAmethyl_1.45.0.tar.gz PackageFileSize: 87.19 KiB