Package: MBAmethyl Version: 1.45.0 Command: rm -rf MBAmethyl.buildbin-libdir && mkdir MBAmethyl.buildbin-libdir && /Users/biocbuild/BBS/utils/build-universal.sh MBAmethyl_1.45.0.tar.gz /Library/Frameworks/R.framework/Resources/bin/R MBAmethyl.buildbin-libdir StartedAt: 2025-11-14 23:39:07 -0500 (Fri, 14 Nov 2025) EndedAt: 2025-11-14 23:39:09 -0500 (Fri, 14 Nov 2025) EllapsedTime: 2.1 seconds RetCode: 0 Status: OK PackageFile: MBAmethyl_1.45.0.tgz PackageFileSize: 111.1 KiB