Package: MBASED Version: 1.45.0 Command: /home/biocbuild/bbs-3.23-bioc/R/bin/R CMD INSTALL MBASED StartedAt: 2025-11-23 15:32:13 -0500 (Sun, 23 Nov 2025) EndedAt: 2025-11-23 15:32:35 -0500 (Sun, 23 Nov 2025) EllapsedTime: 21.8 seconds RetCode: 0 Status: OK