Package: MAST Version: 1.37.0 Command: /home/biocbuild/bbs-3.23-bioc/R/bin/R CMD INSTALL MAST StartedAt: 2025-11-14 15:20:35 -0500 (Fri, 14 Nov 2025) EndedAt: 2025-11-14 15:21:14 -0500 (Fri, 14 Nov 2025) EllapsedTime: 39.5 seconds RetCode: 0 Status: OK