Package: MAST Version: 1.37.0 Command: /home/biocbuild/bbs-3.23-bioc/R/bin/R CMD build --keep-empty-dirs --no-resave-data MAST StartedAt: 2025-11-14 18:26:17 -0500 (Fri, 14 Nov 2025) EndedAt: 2025-11-14 18:30:42 -0500 (Fri, 14 Nov 2025) EllapsedTime: 265.3 seconds RetCode: 0 Status: OK PackageFile: MAST_1.37.0.tar.gz PackageFileSize: 7.25 MiB