Package: MAST Version: 1.37.0 Command: /Library/Frameworks/R.framework/Resources/bin/R CMD INSTALL MAST StartedAt: 2025-11-13 15:12:44 -0500 (Thu, 13 Nov 2025) EndedAt: 2025-11-13 15:13:00 -0500 (Thu, 13 Nov 2025) EllapsedTime: 16.4 seconds RetCode: 0 Status: OK