Package: MAST Version: 1.37.0 Command: /Library/Frameworks/R.framework/Resources/bin/R CMD build --keep-empty-dirs --no-resave-data MAST StartedAt: 2025-11-13 16:53:34 -0500 (Thu, 13 Nov 2025) EndedAt: 2025-11-13 16:55:17 -0500 (Thu, 13 Nov 2025) EllapsedTime: 103.2 seconds RetCode: 0 Status: OK PackageFile: MAST_1.37.0.tar.gz PackageFileSize: 7.182 MiB