Package: MANOR Version: 1.83.0 Command: /Library/Frameworks/R.framework/Resources/bin/R CMD INSTALL MANOR StartedAt: 2025-11-14 15:02:16 -0500 (Fri, 14 Nov 2025) EndedAt: 2025-11-14 15:02:19 -0500 (Fri, 14 Nov 2025) EllapsedTime: 3.3 seconds RetCode: 0 Status: OK