Package: MANOR Version: 1.83.0 Command: /Library/Frameworks/R.framework/Resources/bin/R CMD build --keep-empty-dirs --no-resave-data MANOR StartedAt: 2025-11-14 16:49:25 -0500 (Fri, 14 Nov 2025) EndedAt: 2025-11-14 16:49:55 -0500 (Fri, 14 Nov 2025) EllapsedTime: 30.3 seconds RetCode: 0 Status: OK PackageFile: MANOR_1.83.0.tar.gz PackageFileSize: 1.696 MiB