Package: MACSr Version: 1.19.0 Command: /home/biocbuild/bbs-3.23-bioc/R/bin/R CMD INSTALL MACSr StartedAt: 2025-11-14 15:27:05 -0500 (Fri, 14 Nov 2025) EndedAt: 2025-11-14 15:27:20 -0500 (Fri, 14 Nov 2025) EllapsedTime: 15.4 seconds RetCode: 0 Status: OK