Package: MACSr Version: 1.19.0 Command: /Library/Frameworks/R.framework/Resources/bin/R CMD INSTALL MACSr StartedAt: 2025-11-14 15:09:41 -0500 (Fri, 14 Nov 2025) EndedAt: 2025-11-14 15:09:48 -0500 (Fri, 14 Nov 2025) EllapsedTime: 6.3 seconds RetCode: 0 Status: OK