Package: MACSr Version: 1.19.0 Command: /Library/Frameworks/R.framework/Resources/bin/R CMD build --keep-empty-dirs --no-resave-data MACSr StartedAt: 2025-11-14 16:48:57 -0500 (Fri, 14 Nov 2025) EndedAt: 2025-11-14 16:49:14 -0500 (Fri, 14 Nov 2025) EllapsedTime: 17.2 seconds RetCode: 0 Status: OK PackageFile: MACSr_1.19.0.tar.gz PackageFileSize: 5.112 MiB