Package: MACSQuantifyR Version: 1.25.0 Command: /home/biocbuild/bbs-3.23-bioc/R/bin/R CMD INSTALL MACSQuantifyR StartedAt: 2025-11-11 15:15:05 -0500 (Tue, 11 Nov 2025) EndedAt: 2025-11-11 15:15:17 -0500 (Tue, 11 Nov 2025) EllapsedTime: 12.8 seconds RetCode: 0 Status: OK