Package: MACSQuantifyR Version: 1.25.0 Command: /home/biocbuild/bbs-3.23-bioc/R/bin/R CMD check --install=check:MACSQuantifyR.install-out.txt --library=/home/biocbuild/bbs-3.23-bioc/R/site-library --timings MACSQuantifyR_1.25.0.tar.gz StartedAt: 2025-11-24 00:55:03 -0500 (Mon, 24 Nov 2025) EndedAt: 2025-11-24 00:56:11 -0500 (Mon, 24 Nov 2025) EllapsedTime: 68.1 seconds RetCode: 0 Status: OK CheckDir: MACSQuantifyR.Rcheck Warnings: 0