Package: MACSQuantifyR Version: 1.25.0 Command: /home/biocbuild/bbs-3.23-bioc/R/bin/R CMD build --keep-empty-dirs --no-resave-data MACSQuantifyR StartedAt: 2025-11-11 18:26:52 -0500 (Tue, 11 Nov 2025) EndedAt: 2025-11-11 18:27:19 -0500 (Tue, 11 Nov 2025) EllapsedTime: 27.1 seconds RetCode: 0 Status: OK PackageFile: MACSQuantifyR_1.25.0.tar.gz PackageFileSize: 3.777 MiB