Package: MACSQuantifyR Version: 1.25.0 Command: /Library/Frameworks/R.framework/Resources/bin/R CMD INSTALL MACSQuantifyR StartedAt: 2025-11-12 15:20:52 -0500 (Wed, 12 Nov 2025) EndedAt: 2025-11-12 15:20:55 -0500 (Wed, 12 Nov 2025) EllapsedTime: 2.6 seconds RetCode: 0 Status: OK