Package: MACSQuantifyR Version: 1.25.0 Command: /Library/Frameworks/R.framework/Resources/bin/R CMD build --keep-empty-dirs --no-resave-data MACSQuantifyR StartedAt: 2025-11-12 16:37:12 -0500 (Wed, 12 Nov 2025) EndedAt: 2025-11-12 16:37:23 -0500 (Wed, 12 Nov 2025) EllapsedTime: 11.1 seconds RetCode: 0 Status: OK PackageFile: MACSQuantifyR_1.25.0.tar.gz PackageFileSize: 4.418 MiB