Package: MACSQuantifyR Version: 1.25.0 Command: rm -rf MACSQuantifyR.buildbin-libdir && mkdir MACSQuantifyR.buildbin-libdir && /Users/biocbuild/BBS/utils/build-universal.sh MACSQuantifyR_1.25.0.tar.gz /Library/Frameworks/R.framework/Resources/bin/R MACSQuantifyR.buildbin-libdir StartedAt: 2025-11-12 21:01:37 -0500 (Wed, 12 Nov 2025) EndedAt: 2025-11-12 21:01:41 -0500 (Wed, 12 Nov 2025) EllapsedTime: 4.1 seconds RetCode: 0 Status: OK PackageFile: MACSQuantifyR_1.25.0.tgz PackageFileSize: 4.467 MiB