Package: M3Drop Version: 1.37.0 Command: /home/biocbuild/bbs-3.23-bioc/R/bin/R CMD INSTALL M3Drop StartedAt: 2025-11-14 15:55:02 -0500 (Fri, 14 Nov 2025) EndedAt: 2025-11-14 15:55:19 -0500 (Fri, 14 Nov 2025) EllapsedTime: 16.4 seconds RetCode: 0 Status: OK