Package: M3Drop Version: 1.37.0 Command: /home/biocbuild/bbs-3.23-bioc/R/bin/R CMD build --keep-empty-dirs --no-resave-data M3Drop StartedAt: 2025-11-14 18:22:23 -0500 (Fri, 14 Nov 2025) EndedAt: 2025-11-14 18:24:09 -0500 (Fri, 14 Nov 2025) EllapsedTime: 106.1 seconds RetCode: 0 Status: OK PackageFile: M3Drop_1.37.0.tar.gz PackageFileSize: 12.25 MiB