Package: M3Drop Version: 1.37.0 Command: /Library/Frameworks/R.framework/Resources/bin/R CMD INSTALL M3Drop StartedAt: 2025-11-13 15:31:33 -0500 (Thu, 13 Nov 2025) EndedAt: 2025-11-13 15:31:39 -0500 (Thu, 13 Nov 2025) EllapsedTime: 6.2 seconds RetCode: 0 Status: OK