Package: M3Drop Version: 1.37.0 Command: /Library/Frameworks/R.framework/Resources/bin/R CMD build --keep-empty-dirs --no-resave-data M3Drop StartedAt: 2025-11-13 16:51:42 -0500 (Thu, 13 Nov 2025) EndedAt: 2025-11-13 16:52:23 -0500 (Thu, 13 Nov 2025) EllapsedTime: 40.5 seconds RetCode: 0 Status: OK PackageFile: M3Drop_1.37.0.tar.gz PackageFileSize: 12.25 MiB