Package: M3Drop Version: 1.37.0 Command: rm -rf M3Drop.buildbin-libdir && mkdir M3Drop.buildbin-libdir && /Users/biocbuild/BBS/utils/build-universal.sh M3Drop_1.37.0.tar.gz /Library/Frameworks/R.framework/Resources/bin/R M3Drop.buildbin-libdir StartedAt: 2025-11-13 23:43:34 -0500 (Thu, 13 Nov 2025) EndedAt: 2025-11-13 23:43:43 -0500 (Thu, 13 Nov 2025) EllapsedTime: 9.2 seconds RetCode: 0 Status: OK PackageFile: M3Drop_1.37.0.tgz PackageFileSize: 12.5 MiB