Package: M3Drop Version: 1.37.0 Maintainer: Tallulah Andrews MaintainerEmail: tallulandrews at gmail.com git_url: https://git.bioconductor.org/packages/M3Drop git_branch: devel git_last_commit: 85bdb7c git_last_commit_date: 2025-10-29 10:35:19 -0500 (Wed, 29 Oct 2025)