Package: M3C Version: 1.33.0 Command: /home/biocbuild/bbs-3.23-bioc/R/bin/R CMD INSTALL M3C StartedAt: 2025-11-13 15:11:11 -0500 (Thu, 13 Nov 2025) EndedAt: 2025-11-13 15:11:26 -0500 (Thu, 13 Nov 2025) EllapsedTime: 15.5 seconds RetCode: 0 Status: OK