Package: M3C Version: 1.33.0 Command: /Library/Frameworks/R.framework/Resources/bin/R CMD build --keep-empty-dirs --no-resave-data M3C StartedAt: 2025-11-12 16:36:51 -0500 (Wed, 12 Nov 2025) EndedAt: 2025-11-12 16:37:12 -0500 (Wed, 12 Nov 2025) EllapsedTime: 20.2 seconds RetCode: 0 Status: OK PackageFile: M3C_1.33.0.tar.gz PackageFileSize: 589.4 KiB