Package: M3C Version: 1.33.0 Command: rm -rf M3C.buildbin-libdir && mkdir M3C.buildbin-libdir && /Users/biocbuild/BBS/utils/build-universal.sh M3C_1.33.0.tar.gz /Library/Frameworks/R.framework/Resources/bin/R M3C.buildbin-libdir StartedAt: 2025-11-13 23:43:34 -0500 (Thu, 13 Nov 2025) EndedAt: 2025-11-13 23:43:39 -0500 (Thu, 13 Nov 2025) EllapsedTime: 5.1 seconds RetCode: 0 Status: OK PackageFile: M3C_1.33.0.tgz PackageFileSize: 758.9 KiB