Package: M3C Version: 1.33.0 Maintainer: Christopher John MaintainerEmail: chris.r.john86 at gmail.com git_url: https://git.bioconductor.org/packages/M3C git_branch: devel git_last_commit: 8703a74 git_last_commit_date: 2025-10-29 10:40:08 -0500 (Wed, 29 Oct 2025)