Package: LymphoSeq Version: 1.39.0 Command: /home/biocbuild/bbs-3.23-bioc/R/bin/R CMD INSTALL LymphoSeq StartedAt: 2025-11-11 15:40:32 -0500 (Tue, 11 Nov 2025) EndedAt: 2025-11-11 15:40:51 -0500 (Tue, 11 Nov 2025) EllapsedTime: 19.1 seconds RetCode: 0 Status: OK