Package: LymphoSeq Version: 1.39.0 Command: /Library/Frameworks/R.framework/Resources/bin/R CMD INSTALL LymphoSeq StartedAt: 2025-11-13 15:15:28 -0500 (Thu, 13 Nov 2025) EndedAt: 2025-11-13 15:15:36 -0500 (Thu, 13 Nov 2025) EllapsedTime: 7.6 seconds RetCode: 0 Status: OK